View In:
ArcMap
ArcGIS Explorer
ArcGIS JavaScript
Google Earth
Virtual Earth
(terms of use)
View Footprint In:
Google Earth
Service Description: Servicio RED.ES. VCapas 3. CALIFICACION
Map Name: Capas
Layers:
Description: Servicio RED.ES. VCapas 2
CATEGORIAS:
- Equipamiento
- Espacio libre
- Industrial
- Infraestructura Viaria
- Otras Infraestructuras
- Residencial plurifamiliar
- Residencial unifamiliar
- Rústico no protegido
- Rústico protegido
- Rústico no protegido
- Rústico protegido
- Terciario Comercial
- Terciario Oficinas
Copyright Text: Team Rocket (Fll & Apb)
Spatial Reference: 102113
Single Fused Map Cache: true
Tile Info:
- Height: 256
- Width: 256
- DPI: 96
- Levels of Detail: (# Levels: 10)
-
Level ID: 10
[Start Tile,
End Tile]
Resolution: 152,874056570411
Scale: 577790,554289
-
Level ID: 11
[Start Tile,
End Tile]
Resolution: 76,4370282850732
Scale: 288895,277144
-
Level ID: 12
[Start Tile,
End Tile]
Resolution: 38,2185141425366
Scale: 144447,638572
-
Level ID: 13
[Start Tile,
End Tile]
Resolution: 19,1092570712683
Scale: 72223,819286
-
Level ID: 14
[Start Tile,
End Tile]
Resolution: 9,55462853563415
Scale: 36111,909643
-
Level ID: 15
[Start Tile,
End Tile]
Resolution: 4,77731426794937
Scale: 18055,954822
-
Level ID: 16
[Start Tile,
End Tile]
Resolution: 2,38865713397468
Scale: 9027,977411
-
Level ID: 17
[Start Tile,
End Tile]
Resolution: 1,19432856685505
Scale: 4513,988705
-
Level ID: 18
[Start Tile,
End Tile]
Resolution: 0,597164283559817
Scale: 2256,994353
-
Level ID: 19
[Start Tile,
End Tile]
Resolution: 0,298582141647617
Scale: 1128,497176
- Format: PNG8
- Compression Quality: 0
-
Origin:
X: -20037508,342787
Y: 20037508,342787
- Spatial Reference: 102113
Intial Extent:
XMin: -677720.040387865
YMin: 4470364.6041965
XMax: -642489.324066223
YMax: 4512897.69487709
Spatial Reference: 102113
Full Extent:
XMin: -676602.708758778
YMin: 4472077.84602777
XMax: -641371.992437135
YMax: 4514610.93670836
Spatial Reference: 102113
Units: esriMeters
Supported Image Format Types: PNG24,PNG,JPG,DIB,TIFF,EMF,PS,PDF,GIF,SVG,SVGZ,AI
Document Info:
- Title: TRABAJO REDES arnaiz
- Author: FLL
- Comments:
- Subject:
- Category:
- Keywords:
Supported Interfaces:
REST
SOAP
WMS
Supported Operations:
Export Map
Identify
Find
Generate KML